BEGIN:VCALENDAR
VERSION:2.0
PRODID:-//Polizei- und Postsportverein e. V. - ECPv6.15.20//NONSGML v1.0//EN
CALSCALE:GREGORIAN
METHOD:PUBLISH
X-WR-CALNAME:Polizei- und Postsportverein e. V.
X-ORIGINAL-URL:https://ppsvsuhl.de
X-WR-CALDESC:Veranstaltungen für Polizei- und Postsportverein e. V.
REFRESH-INTERVAL;VALUE=DURATION:PT1H
X-Robots-Tag:noindex
X-PUBLISHED-TTL:PT1H
BEGIN:VTIMEZONE
TZID:Europe/Berlin
BEGIN:DAYLIGHT
TZOFFSETFROM:+0100
TZOFFSETTO:+0200
TZNAME:CEST
DTSTART:20250330T010000
END:DAYLIGHT
BEGIN:STANDARD
TZOFFSETFROM:+0200
TZOFFSETTO:+0100
TZNAME:CET
DTSTART:20251026T010000
END:STANDARD
BEGIN:DAYLIGHT
TZOFFSETFROM:+0100
TZOFFSETTO:+0200
TZNAME:CEST
DTSTART:20260329T010000
END:DAYLIGHT
BEGIN:STANDARD
TZOFFSETFROM:+0200
TZOFFSETTO:+0100
TZNAME:CET
DTSTART:20261025T010000
END:STANDARD
BEGIN:DAYLIGHT
TZOFFSETFROM:+0100
TZOFFSETTO:+0200
TZNAME:CEST
DTSTART:20270328T010000
END:DAYLIGHT
BEGIN:STANDARD
TZOFFSETFROM:+0200
TZOFFSETTO:+0100
TZNAME:CET
DTSTART:20271031T010000
END:STANDARD
END:VTIMEZONE
BEGIN:VEVENT
DTSTART;TZID=Europe/Berlin:20260425T100000
DTEND;TZID=Europe/Berlin:20260425T160000
DTSTAMP:20260423T164058
CREATED:20210806T143813Z
LAST-MODIFIED:20260328T181155Z
UID:4576-1777111200-1777132800@ppsvsuhl.de
SUMMARY:Kinderfestival der F-Junioren
DESCRIPTION:Anpfiff ist am 25.04.26 um 10.00 Uhr auf dem Sportplatz im Goldlauterer Kirchwald. \n\n\nWir wünschen viel Erfolg!
URL:https://ppsvsuhl.de/event/cii-junioren-punktspiel/
CATEGORIES:F-Junioren
END:VEVENT
BEGIN:VEVENT
DTSTART;TZID=Europe/Berlin:20260425T110000
DTEND;TZID=Europe/Berlin:20260425T130000
DTSTAMP:20260423T164058
CREATED:20201004T141240Z
LAST-MODIFIED:20260328T181440Z
UID:4215-1777114800-1777122000@ppsvsuhl.de
SUMMARY:A-Junioren vs. SG FC Steinbach-Hallenberg / Punktspiel
DESCRIPTION:Anpfiff ist am 25.04.26 um 11.00 Uhr im Albrechtser Waldstadion. \n\n\nWir wünschen viel Erfolg!
URL:https://ppsvsuhl.de/event/d-junioren-punktspiel-2/
CATEGORIES:A-Junioren
END:VEVENT
BEGIN:VEVENT
DTSTART;TZID=Europe/Berlin:20260426T093000
DTEND;TZID=Europe/Berlin:20260426T110000
DTSTAMP:20260423T164058
CREATED:20220815T113256Z
LAST-MODIFIED:20260405T072122Z
UID:5159-1777195800-1777201200@ppsvsuhl.de
SUMMARY:SG FSV Schmalkalden II vs. D2-Junioren / Punktspiel
DESCRIPTION:Anpfiff ist am 26.04.26 um 09.30 Uhr auf dem Kunstrasenplatz in der Allendestraße in Schmalkalden. \nWir wünschen viel Erfolg.
URL:https://ppsvsuhl.de/event/2-maennermannschaft-sv-jugendkraft-03-albrechts-ii/
CATEGORIES:D-Junioren
END:VEVENT
BEGIN:VEVENT
DTSTART;TZID=Europe/Berlin:20260426T130000
DTEND;TZID=Europe/Berlin:20260426T150000
DTSTAMP:20260423T164058
CREATED:20260116T144542Z
LAST-MODIFIED:20260405T072539Z
UID:8290-1777208400-1777215600@ppsvsuhl.de
SUMMARY:2.Männermannschaft vs. SG Ober-Unterschönau / Punktspiel
DESCRIPTION:Anpfiff ist am 26.04.26 um 13.00 Uhr auf dem Sportplatz im Goldlauterer Kirchwald. \n\n\nWir wünschen viel Erfolg!
URL:https://ppsvsuhl.de/event/mcdonalds-cup-der-d-junioren/
CATEGORIES:2.Männermannschaft
END:VEVENT
BEGIN:VEVENT
DTSTART;TZID=Europe/Berlin:20260426T150000
DTEND;TZID=Europe/Berlin:20260426T170000
DTSTAMP:20260423T164058
CREATED:20220819T125448Z
LAST-MODIFIED:20260419T160813Z
UID:5175-1777215600-1777222800@ppsvsuhl.de
SUMMARY:VFL Meiningen II vs. 1.Männermannschaft / Punktspiel
DESCRIPTION:Anpfiff ist am 26.04.26 um 15.00 Uhr im Stadion Maßfelder Weg in Meiningen. \nWir wünschen viel Erfolg.
URL:https://ppsvsuhl.de/event/sv-fussballcamp-training-mit-dem-weltmeister/
CATEGORIES:1. Männermannschaft
END:VEVENT
BEGIN:VEVENT
DTSTART;TZID=Europe/Berlin:20260430T183000
DTEND;TZID=Europe/Berlin:20260430T200000
DTSTAMP:20260423T164058
CREATED:20210806T143359Z
LAST-MODIFIED:20260419T161038Z
UID:4574-1777573800-1777579200@ppsvsuhl.de
SUMMARY:SG SV Grün-Weiß Wasungen vs. B-Junioren / Punktspiel
DESCRIPTION:Am 30.04.2026 ab 18.30 Uhr rollt der Ball auf dem Sportplatz Blumenburg in Oepfershausen. \n\n\nWir wünschen viel Erfolg!
URL:https://ppsvsuhl.de/event/a-junioren-punktspiel-2/
CATEGORIES:B-Junioren
END:VEVENT
BEGIN:VEVENT
DTSTART;TZID=Europe/Berlin:20260502T100000
DTEND;TZID=Europe/Berlin:20260502T120000
DTSTAMP:20260423T164058
CREATED:20210806T142440Z
LAST-MODIFIED:20260419T161316Z
UID:4571-1777716000-1777723200@ppsvsuhl.de
SUMMARY:SV Grün-Weiß Wasungen vs. A-Junioren / Punktspiel
DESCRIPTION:Anpfiff ist am 02.05.26 um 10.00 Uhr auf dem Sportplatz in Wasungen. \n\n\nWir wünschen viel Erfolg!
URL:https://ppsvsuhl.de/event/d-junioren-testspiel/
CATEGORIES:2.Männermannschaft
END:VEVENT
END:VCALENDAR